﻿BEGIN:VCALENDAR
VERSION:2.0
PRODID:-//TSGV Hattenhofen e.V. - ECPv6.14.2//NONSGML v1.0//EN
CALSCALE:GREGORIAN
METHOD:PUBLISH
X-ORIGINAL-URL:https://tsgv-hattenhofen.de
X-WR-CALDESC:Veranstaltungen für TSGV Hattenhofen e.V.
REFRESH-INTERVAL;VALUE=DURATION:PT1H
X-Robots-Tag:noindex
X-PUBLISHED-TTL:PT1H
BEGIN:VTIMEZONE
TZID:Europe/Berlin
BEGIN:DAYLIGHT
TZOFFSETFROM:+0100
TZOFFSETTO:+0200
TZNAME:CEST
DTSTART:20230326T010000
END:DAYLIGHT
BEGIN:STANDARD
TZOFFSETFROM:+0200
TZOFFSETTO:+0100
TZNAME:CET
DTSTART:20231029T010000
END:STANDARD
END:VTIMEZONE
BEGIN:VEVENT
DTSTART;TZID=Europe/Berlin:20230915T040000
DTEND;TZID=Europe/Berlin:20230915T040000
DTSTAMP:20260420T063803
CREATED:20230620T184115Z
LAST-MODIFIED:20230701T193614Z
UID:1831-1694750400-1694750400@tsgv-hattenhofen.de
SUMMARY:125 Jahre TSGV - Aktion 'LaGym: Offene Trainingsstunde'
DESCRIPTION:
URL:https://tsgv-hattenhofen.de/event/125-jahre-tsgv-aktion-lagym-offene-trainingsstunde/
LOCATION:Grundschule Hattenhofen\, Schulgasse\, 73110 Hattenhofen\, Deutschland
END:VEVENT
BEGIN:VEVENT
DTSTART;TZID=Europe/Berlin:20230915T120000
DTEND;TZID=Europe/Berlin:20230915T120000
DTSTAMP:20260420T063803
CREATED:20230725T181329Z
LAST-MODIFIED:20230725T181330Z
UID:2129-1694779200-1694779200@tsgv-hattenhofen.de
SUMMARY:Jubläum 125 Jahre TSGV - La Gym: Offene Trainingsstunde
DESCRIPTION:
URL:https://tsgv-hattenhofen.de/event/jublaeum-125-jahre-tsgv-la-gym-offene-trainingsstunde/
END:VEVENT
END:VCALENDAR